BEGIN:VCALENDAR
VERSION:2.0
PRODID:SFPL Web Calendar
BEGIN:VEVENT
UID:145477@sfpl.org
DTSTAMP:20260213T220000Z
DTSTART:20260213T220000Z
DTEND:20260213T234500Z
SUMMARY:Film: Middle of Nowhere
DESCRIPTION:<p>Written and directed by Ava DuVernay, who won the 2012 Sundance Film Festival Best Director Award for her work, <i>Middle of Nowhere</i> chronicles a woman’s separation from her incarcerated husband and the journey to maintain her marriage and her identity amidst crisis and chaos.</p><p>R, 81 mins., 2011. Closed captions (CC) in English.</p>
LOCATION:Noe Valley/Sally Brunn - Noe Valley Meeting Room
CLASS:PUBLIC
TRANSP:TRANSPARENT
END:VEVENT
BEGIN:VALARM
TRIGGER:-PT1440M
ACTION:DISPLAY
DESCRIPTION:Event Reminder - Film: Middle of Nowhere
END:VALARM
END:VCALENDAR