BEGIN:VCALENDAR
VERSION:2.0
PRODID:SFPL Web Calendar
BEGIN:VEVENT
UID:145511@sfpl.org
DTSTAMP:20260723T220000Z
DTSTART:20260723T220000Z
DTEND:20260723T230000Z
SUMMARY:Activity: Penguin Trash Can Craft
DESCRIPTION:<p>Create a mini trash can that looks like a penguin. Feed your charming penguin trash scraps. For children ages 6 and older.</p>
LOCATION:Ingleside - Ingleside Children's Area
CLASS:PUBLIC
TRANSP:TRANSPARENT
END:VEVENT
BEGIN:VALARM
TRIGGER:-PT1440M
ACTION:DISPLAY
DESCRIPTION:Event Reminder - Activity: Penguin Trash Can Craft
END:VALARM
END:VCALENDAR