BEGIN:VCALENDAR
VERSION:2.0
PRODID:SFPL Web Calendar
BEGIN:VEVENT
UID:145759@sfpl.org
DTSTAMP:20260226T220000Z
DTSTART:20260226T220000Z
DTEND:20260226T233000Z
SUMMARY:Tutorial: SFPL Discover & Go/Discover & Go 簡介 
DESCRIPTION:<p>Discover how San Francisco residents can use their library card to access free passes to more than a dozen local museums and attractions.&nbsp;</p><p>Space limited. Reservations required: (415) 355-2888 (starting February 2).</p><p>瞭解三藩市居民如何透過圖書館Discover & Go項目來獲取免費門票參觀本地博物館以及其他文化場所。2月2日開始報名，報名請電(415) 355-2888。</p>
LOCATION:Chinatown/Him Mark Lai - Chinatown Meeting Room
CLASS:PUBLIC
TRANSP:TRANSPARENT
END:VEVENT
BEGIN:VALARM
TRIGGER:-PT1440M
ACTION:DISPLAY
DESCRIPTION:Event Reminder - Tutorial: SFPL Discover & Go/Discover & Go 簡介 
END:VALARM
END:VCALENDAR