BEGIN:VCALENDAR
VERSION:2.0
PRODID:SFPL Web Calendar
BEGIN:VEVENT
UID:145832@sfpl.org
DTSTAMP:20260314T210000Z
DTSTART:20260314T210000Z
DTEND:20260314T220000Z
SUMMARY:Performance: Khachapuri Trio
DESCRIPTION:<p>Khachapuri Trio will perform original songs, instrumentals and arrangements of the music of Chick Corea, Julius Hemphill, Kurt Weill, and others. A transparent, dynamic ensemble that will titillate your senses.&nbsp;</p><p>Beth Custer - clarinets, voice&nbsp;</p><p>David James - guitar, voice</p><p>Jess Ivry - cello, voice&nbsp;</p><p>&nbsp;</p>
LOCATION:Golden Gate Valley - Golden Gate Valley Meeting Room
CLASS:PUBLIC
TRANSP:TRANSPARENT
END:VEVENT
BEGIN:VALARM
TRIGGER:-PT1440M
ACTION:DISPLAY
DESCRIPTION:Event Reminder - Performance: Khachapuri Trio
END:VALARM
END:VCALENDAR