BEGIN:VCALENDAR
VERSION:2.0
PRODID:SFPL Web Calendar
BEGIN:VEVENT
UID:145859@sfpl.org
DTSTAMP:20260221T223000Z
DTSTART:20260221T223000Z
DTEND:20260221T234500Z
SUMMARY:Activity: Alma Thomas, Read-aloud and Craft
DESCRIPTION:<p>Enjoy a read-aloud of a book on artist Alma Thomas, <a href="https://sfpl.bibliocommons.com/v2/record/S93C5110290">Ablaze with Color: A Story of Painter Alma Thomas by Jeanne Walker Harvey; illustrated by Loveis Wise</a> and create a craft inspired by Thomas' art. For children and their caregivers.</p>
LOCATION:Noe Valley/Sally Brunn - Noe Valley Meeting Room
CLASS:PUBLIC
TRANSP:TRANSPARENT
END:VEVENT
BEGIN:VALARM
TRIGGER:-PT1440M
ACTION:DISPLAY
DESCRIPTION:Event Reminder - Activity: Alma Thomas, Read-aloud and Craft
END:VALARM
END:VCALENDAR