BEGIN:VCALENDAR
VERSION:2.0
PRODID:SFPL Web Calendar
BEGIN:VEVENT
UID:145867@sfpl.org
DTSTAMP:20260527T220000Z
DTSTART:20260527T220000Z
DTEND:20260527T230000Z
SUMMARY:Activity: Mini-Periscopes
DESCRIPTION:<p>Construct simple periscopes&nbsp;with cardboard tubes and mirrors.&nbsp;For ages 7 and older. Space limited. Seats available first come, first served.</p>
LOCATION:Potrero - Potrero Meeting Room
CLASS:PUBLIC
TRANSP:TRANSPARENT
END:VEVENT
BEGIN:VALARM
TRIGGER:-PT1440M
ACTION:DISPLAY
DESCRIPTION:Event Reminder - Activity: Mini-Periscopes
END:VALARM
END:VCALENDAR