BEGIN:VCALENDAR
VERSION:2.0
PRODID:SFPL Web Calendar
BEGIN:VEVENT
UID:145900@sfpl.org
DTSTAMP:20260228T193000Z
DTSTART:20260228T193000Z
DTEND:20260228T200000Z
SUMMARY:Performance: Lion Dance with West Coast Lion Dance Troupe 西岸醒獅團舞獅表演
DESCRIPTION:<p>Ring in the Year of the Horse with a traditional lion dance from the West Coast Lion Dance Troupe.</p><p>慶祝馬年來臨，觀賞西岸醒獅團的傳統舞獅表演。</p><p>Connect: <a href="https://www.westcoastlions.net/history.html">West Coast Lion Dance Troupe - Website</a> I <a href="https://www.instagram.com/wcliondance/reels/">West Coast Lion Dance Troupe - Instagram</a> I <a href="https://www.facebook.com/WCLDT/">West Coast Lion Dance Troupe - Facebook</a></p>
LOCATION:Ocean View
CLASS:PUBLIC
TRANSP:TRANSPARENT
END:VEVENT
BEGIN:VALARM
TRIGGER:-PT1440M
ACTION:DISPLAY
DESCRIPTION:Event Reminder - Performance: Lion Dance with West Coast Lion Dance Troupe 西岸醒獅團舞獅表演
END:VALARM
END:VCALENDAR