BEGIN:VCALENDAR
VERSION:2.0
PRODID:SFPL Web Calendar
BEGIN:VEVENT
UID:145949@sfpl.org
DTSTAMP:20260220T000000Z
DTSTART:20260220T000000Z
DTEND:20260220T010000Z
SUMMARY:Workshop: Sticker Transfers
DESCRIPTION:<p>Learn how to transfer decorative motifs from magazines and other sources to personalize cards and gifts using just water and packing tape.&nbsp;</p><p>Space limited. Reservations required: (415) 355-2868 or sign up at the reference desk (starting February 1).</p><p>Ages 18 and up.</p>
LOCATION:Excelsior - Excelsior Meeting Room
CLASS:PUBLIC
TRANSP:TRANSPARENT
END:VEVENT
BEGIN:VALARM
TRIGGER:-PT1440M
ACTION:DISPLAY
DESCRIPTION:Event Reminder - Workshop: Sticker Transfers
END:VALARM
END:VCALENDAR