BEGIN:VCALENDAR
VERSION:2.0
PRODID:SFPL Web Calendar
BEGIN:VEVENT
UID:146159@sfpl.org
DTSTAMP:20260328T183000Z
DTSTART:20260328T183000Z
DTEND:20260328T193000Z
SUMMARY:Activity: Little Builders
DESCRIPTION:<p>Create a structure using magnetic building pieces.<br><br>For ages 6 and younger.</p>
LOCATION:Excelsior - Excelsior Meeting Room
CLASS:PUBLIC
TRANSP:TRANSPARENT
END:VEVENT
BEGIN:VALARM
TRIGGER:-PT1440M
ACTION:DISPLAY
DESCRIPTION:Event Reminder - Activity: Little Builders
END:VALARM
END:VCALENDAR