BEGIN:VCALENDAR
VERSION:2.0
PRODID:SFPL Web Calendar
BEGIN:VEVENT
UID:146306@sfpl.org
DTSTAMP:20260215T220000Z
DTSTART:20260215T220000Z
DTEND:20260215T233000Z
SUMMARY:Activity: Crafternoon Mending Circle with Needle Felting
DESCRIPTION:<p>Bring a garment in need of repair and work on your mending with other crafters. Bring your own materials or use library supplies. Sew on a button, patch a sock hole, exchange advice with other menders.&nbsp;</p><p>This mending circle also explores felting, the craft of making custom felted shapes from unspun wool. Use it to fill a moth hole or make a decorative appliqué patch.</p><p>Space limited. Seats available first come, first served. Ages 18 and up.</p>
LOCATION:Excelsior - Excelsior Meeting Room
CLASS:PUBLIC
TRANSP:TRANSPARENT
END:VEVENT
BEGIN:VALARM
TRIGGER:-PT1440M
ACTION:DISPLAY
DESCRIPTION:Event Reminder - Activity: Crafternoon Mending Circle with Needle Felting
END:VALARM
END:VCALENDAR