BEGIN:VCALENDAR
VERSION:2.0
PRODID:SFPL Web Calendar
BEGIN:VEVENT
UID:146378@sfpl.org
DTSTAMP:20260313T200000Z
DTSTART:20260313T200000Z
DTEND:20260313T213000Z
SUMMARY:Tutorial: Cantonese Tablet/Smartphone Course for Older Adults 60+
DESCRIPTION:<p>專為60歲或以上年長者或殘障人士而設的培訓課程.</p><p>由安老自助處提供. 請攜带您自己的設備.</p><p>座位有限. 從3月1日開始接受報名.</p><p>請親臨日落區圖書分館或致電415-355-2808報名.</p><p>設備: 蘋果和安卓</p><p>語言: 粵語</p><p>日期: 3月13日或3月27日</p><p>時間: 1點至2點半</p><p>主題: YouTube</p><ul><li>如何在 YouTube 中搜索视频/How to search video in YouTube</li><li>如何跳过广告（在搜索页面、视频播放中）/How to skip Ad (In search page, During Video)</li><li>如何调节视频音量、画质和播放速度/How to adjust video volume, quality and speed</li></ul>
LOCATION:Sunset - Sunset Program Room
CLASS:PUBLIC
TRANSP:TRANSPARENT
END:VEVENT
BEGIN:VALARM
TRIGGER:-PT1440M
ACTION:DISPLAY
DESCRIPTION:Event Reminder - Tutorial: Cantonese Tablet/Smartphone Course for Older Adults 60+
END:VALARM
END:VCALENDAR