BEGIN:VCALENDAR
VERSION:2.0
PRODID:SFPL Web Calendar
BEGIN:VEVENT
UID:146718@sfpl.org
DTSTAMP:20260530T220000Z
DTSTART:20260530T220000Z
DTEND:20260531T000000Z
SUMMARY:Workshop: UV Resin for Beginners with Bea Byrne
DESCRIPTION:<p>Learn about UV resin and create a piece of jewelry, keychain or bookmark. Unlike epoxy resin, this is a minimal odor process which cures in minutes for fast and rewarding results.</p><p>Space limited. Reservations required: (415) 355-2848 (starting May 1).<br><br>Connect: <a href="https://www.beabyrne.com/">Bea Byrne - Website</a> | <a href="https://www.instagram.com/beabyrneartist/">Bea Byrne - Instagram</a></p>
LOCATION:Visitacion Valley - Visitacion Valley Meeting Room
CLASS:PUBLIC
TRANSP:TRANSPARENT
END:VEVENT
BEGIN:VALARM
TRIGGER:-PT1440M
ACTION:DISPLAY
DESCRIPTION:Event Reminder - Workshop: UV Resin for Beginners with Bea Byrne
END:VALARM
END:VCALENDAR