BEGIN:VCALENDAR
VERSION:2.0
PRODID:SFPL Web Calendar
BEGIN:VEVENT
UID:146721@sfpl.org
DTSTAMP:20260502T170000Z
DTSTART:20260502T170000Z
DTEND:20260502T183000Z
SUMMARY:讀書會：化學課
DESCRIPTION:<p>在書香中相遇，與熱愛中文閱讀的朋友共談文字之美、閱讀之趣。這個月的閱讀書籍是Bonnie Garmus 的《<a href="https://sfpl.bibliocommons.com/v2/record/S93C5552424">化學課</a>》。</p><p>中文讀書會於每月第二個星期六舉行。</p><p>Connect with Chinese readers to explore the joy of reading. This month's book selection is <a href="https://sfpl.bibliocommons.com/v2/record/S93C5140139"><i>Lessons in Chemistry</i></a><i> </i>by Gonnie Garmus.&nbsp;</p>
LOCATION:Main Library - Chinese Center Exhibit Space - 3rd Fl
CLASS:PUBLIC
TRANSP:TRANSPARENT
END:VEVENT
BEGIN:VALARM
TRIGGER:-PT1440M
ACTION:DISPLAY
DESCRIPTION:Event Reminder - 讀書會：化學課
END:VALARM
END:VCALENDAR