BEGIN:VCALENDAR
VERSION:2.0
PRODID:SFPL Web Calendar
BEGIN:VEVENT
UID:146767@sfpl.org
DTSTAMP:20260314T220000Z
DTSTART:20260314T220000Z
DTEND:20260314T233000Z
SUMMARY:Presentation: Richie Unterberger presents Joni Mitchell
DESCRIPTION:<p>Local author and&nbsp;folk-rock historian Richie Unterberger profiles the renowned singer-songwriter Joni&nbsp;Mitchell. The presentation will spotlight film clips of her performances from the&nbsp;mid-1960s to the mid-1970s, when she evolved from a little known Canadian&nbsp;folk musician to a folk-rock superstar. Sometimes dating from before she&nbsp;even had a recording contract, these clips will include classic songs like&nbsp;"Both Sides Now," "Chelsea Morning," "Woodstock," and "Big Yellow Taxi."</p>
LOCATION:Park - Park Meeting Room
CLASS:PUBLIC
TRANSP:TRANSPARENT
END:VEVENT
BEGIN:VALARM
TRIGGER:-PT1440M
ACTION:DISPLAY
DESCRIPTION:Event Reminder - Presentation: Richie Unterberger presents Joni Mitchell
END:VALARM
END:VCALENDAR