BEGIN:VCALENDAR
VERSION:2.0
PRODID:SFPL Web Calendar
BEGIN:VEVENT
UID:146785@sfpl.org
DTSTAMP:20260222T220000Z
DTSTART:20260222T220000Z
DTEND:20260222T233000Z
SUMMARY:Presentation: Multiply Your Houseplants — Success with Your Indoor Garden
DESCRIPTION:<p>Whether you are an experienced houseplant enthusiast or new to indoor gardening, this discussion offers an opportunity to learn about common houseplants, proper care techniques, and methods of propagation to support healthy growth and long-term enjoyment of thriving greenery. The lecture will be followed by a plant swap.</p>
LOCATION:Mission Bay - Mission Bay Program Room
CLASS:PUBLIC
TRANSP:TRANSPARENT
END:VEVENT
BEGIN:VALARM
TRIGGER:-PT1440M
ACTION:DISPLAY
DESCRIPTION:Event Reminder - Presentation: Multiply Your Houseplants — Success with Your Indoor Garden
END:VALARM
END:VCALENDAR