BEGIN:VCALENDAR
VERSION:2.0
PRODID:SFPL Web Calendar
BEGIN:VEVENT
UID:146842@sfpl.org
DTSTAMP:20260514T190000Z
DTSTART:20260514T190000Z
DTEND:20260514T200000Z
SUMMARY:Activity: Line Dancing
DESCRIPTION:<p>Heel toe dosey doe–celebrate Spring 2026, with light steppin' line dancing. This is a one-hour beginner lesson.</p><p>Break out the boots, comfortable shoes and clothing for a light and lively range of motion.</p><p>&nbsp;</p><p>&nbsp;</p>
LOCATION:Potrero - Potrero Meeting Room
CLASS:PUBLIC
TRANSP:TRANSPARENT
END:VEVENT
BEGIN:VALARM
TRIGGER:-PT1440M
ACTION:DISPLAY
DESCRIPTION:Event Reminder - Activity: Line Dancing
END:VALARM
END:VCALENDAR