BEGIN:VCALENDAR
VERSION:2.0
PRODID:SFPL Web Calendar
BEGIN:VEVENT
UID:147166@sfpl.org
DTSTAMP:20260314T223000Z
DTSTART:20260314T223000Z
DTEND:20260314T233000Z
SUMMARY:Performance: The Lizard Point
DESCRIPTION:<p>A live performance by SFPL Bay Beats artist <a href="https://baybeats.sfpl.org/albums/the-lizard-point-giske">The Lizard Point</a>. (Bay Beats is the library's music streaming platform.)</p><p>Named after the opening track of Brian Eno’s <a href="https://sfpl.bibliocommons.com/v2/record/S93C2972187"><i>Ambient 4: On Land</i></a><i>,</i> The Lizard Point are Conor Devlin (AWMA, Caseworker, Half Film) and Geoffrey Scott (Slowness). The transatlantic duo craft elegant instrumentals that evoke a nocturnal, pastoral space. They will release their third LP "<a href="https://url.avanan.click/v2/r01/___https://thelizardpoint.bandcamp.com/album/in-the-red-earth___.YXAzOnNmZHQyOmE6bzoxODQ2ODY4Nzk3NTA4MjQ5NTA4MjVkMzE5YzBmZmVlNTo3OjhmNTI6YzQ3NDYyYjY2Mzk1MTUzYjFlNmViNDU2OTcyYjI3MzMzYmIzY2Q2NGIxYzg5NTFmZDllZTViODcwYWUxY2I1MDpoOlQ6Tg">In the Red Earth</a>," on March 10, 2026 on Hidden Shoal Recordings, with a limited vinyl release on Bandcamp. Shows in the U.S. and Europe are booked for March and April respectively.</p><p>More info at<a href="https://url.avanan.click/v2/r01/___https://www.thelizardpoint.com/___.YXAzOnNmZHQyOmE6bzoxODQ2ODY4Nzk3NTA4MjQ5NTA4MjVkMzE5YzBmZmVlNTo3OjRiN2Y6NTlkZjgyMDRlNjA0YmM3Y2NjNGI4YzI5ZTE5ZTQ4NWJlYWZjNzdlNjk4OTA4ZDA1NGUxMmI0YTZiNmYzOTU5ZjpoOlQ6Tg"> thelizardpoint.com</a>.</p>
LOCATION:Golden Gate Valley - Golden Gate Valley Meeting Room
CLASS:PUBLIC
TRANSP:TRANSPARENT
END:VEVENT
BEGIN:VALARM
TRIGGER:-PT1440M
ACTION:DISPLAY
DESCRIPTION:Event Reminder - Performance: The Lizard Point
END:VALARM
END:VCALENDAR