BEGIN:VCALENDAR
VERSION:2.0
PRODID:SFPL Web Calendar
BEGIN:VEVENT
UID:147255@sfpl.org
DTSTAMP:20260502T210000Z
DTSTART:20260502T210000Z
DTEND:20260502T220000Z
SUMMARY:Social: Pâte à Choux Tasting
DESCRIPTION:<p>Ranida Thammarin (Sunshine) demonstrates how to make Thai Iced Tea-flavored icing for Pâte à Choux and offers a tasting session. Ranida is the founder of a culinary school in the Mission District and the author of <a href="https://sfpl.bibliocommons.com/v2/record/S93C6976199"><i>Thai Cooking with Sunshine: Simple, Delicious Recipes That You Can Make at Home.</i></a></p><p>Space limited. Reservations required: (415) 355-5615 (starting April 15).</p><p>Connect: Ranida Thammarin - <a href="https://www.thaicookingwithsunshine.com/">Website</a></p>
LOCATION:Ocean View - Ocean View Meeting Room
CLASS:PUBLIC
TRANSP:TRANSPARENT
END:VEVENT
BEGIN:VALARM
TRIGGER:-PT1440M
ACTION:DISPLAY
DESCRIPTION:Event Reminder - Social: Pâte à Choux Tasting
END:VALARM
END:VCALENDAR