BEGIN:VCALENDAR
VERSION:2.0
PRODID:SFPL Web Calendar
BEGIN:VEVENT
UID:147262@sfpl.org
DTSTAMP:20260311T220000Z
DTSTART:20260311T220000Z
DTEND:20260312T001500Z
SUMMARY:Film: 35 Shots of Rum, with Maya Sidhu
DESCRIPTION:<p><i>35 Shots of Rum</i> (2008), directed by Claire Denis, is a quiet, intimate drama about the close bond between Lionel, a widowed Paris Métro driver, and his adult daughter Joséphine, who live together in a small apartment in Paris. The film observes their daily routines and relationships as Joséphine begins to contemplate independence and romantic connection, forcing both to confront the inevitability of change and separation. Rather than conventional narrative, Denis uses mood, gesture, and silence to explore themes of love, family, cultural identity, and letting go, creating a tender character portrait both personal and universal. Featuring an evocative score by the music group <a href="https://sfpl.bibliocommons.com/v2/search?custom_edit=false&query=contributor%3A(tindersticks)%20%20%20formatcode%3A(MUSIC_DOWNLOAD%20OR%20MUSIC_CD%20)&searchType=bl&suppress=true">Tindersticks</a>. Pre and post analysis and discussion with Maya Sidhu.&nbsp;</p><p>Maya Sidhu is a Lecturer in French at U.C. Berkeley where she teaches courses on French as a second language and Francophone cinema.&nbsp;</p><p>NR, 100 min., 2008. Closed captions (CC) in English.&nbsp;</p>
LOCATION:Golden Gate Valley - Golden Gate Valley Meeting Room
CLASS:PUBLIC
TRANSP:TRANSPARENT
END:VEVENT
BEGIN:VALARM
TRIGGER:-PT1440M
ACTION:DISPLAY
DESCRIPTION:Event Reminder - Film: 35 Shots of Rum, with Maya Sidhu
END:VALARM
END:VCALENDAR