BEGIN:VCALENDAR
VERSION:2.0
PRODID:SFPL Web Calendar
BEGIN:VEVENT
UID:147272@sfpl.org
DTSTAMP:20260306T000000Z
DTSTART:20260306T000000Z
DTEND:20260306T010000Z
SUMMARY:Workshop: Graphic Novel Writing
DESCRIPTION:<p>Tell a story by creating a short form graphic novel. Create a story and obtain feedback from instructors that will help you improve skills, define style and encourage experimentation.&nbsp;</p><p>&nbsp;</p>
LOCATION:Potrero - Potrero Meeting Room
CLASS:PUBLIC
TRANSP:TRANSPARENT
END:VEVENT
BEGIN:VALARM
TRIGGER:-PT1440M
ACTION:DISPLAY
DESCRIPTION:Event Reminder - Workshop: Graphic Novel Writing
END:VALARM
END:VCALENDAR