BEGIN:VCALENDAR
VERSION:2.0
PRODID:SFPL Web Calendar
BEGIN:VEVENT
UID:147449@sfpl.org
DTSTAMP:20260502T210000Z
DTSTART:20260502T210000Z
DTEND:20260502T220000Z
SUMMARY:Performance: Herbert Hoover Middle School Band
DESCRIPTION:<p>Enjoy a live musical performance by San Francisco's Herbert Hoover Middle School's band.&nbsp;</p>
LOCATION:Ortega - Ortega Meeting Room
CLASS:PUBLIC
TRANSP:TRANSPARENT
END:VEVENT
BEGIN:VALARM
TRIGGER:-PT1440M
ACTION:DISPLAY
DESCRIPTION:Event Reminder - Performance: Herbert Hoover Middle School Band
END:VALARM
END:VCALENDAR