BEGIN:VCALENDAR
VERSION:2.0
PRODID:SFPL Web Calendar
BEGIN:VEVENT
UID:147451@sfpl.org
DTSTAMP:20260307T220000Z
DTSTART:20260307T220000Z
DTEND:20260308T000000Z
SUMMARY:Workshop: LEGO Robotics
DESCRIPTION:<p>Create a unique, drivable LEGO Robot with Lowell High School’s Team 4159 CardinalRobotics. This is an introductory workshop to inspire creativity and fun!</p><p>For children ages 6 and older and their caregivers.</p><p>Connect: <a href="https://www.team4159.org/our-team/">Team 4159 CardinalRobotics - Website</a></p>
LOCATION:Main Library - Children's Creative Center - 2nd Fl
CLASS:PUBLIC
TRANSP:TRANSPARENT
END:VEVENT
BEGIN:VALARM
TRIGGER:-PT1440M
ACTION:DISPLAY
DESCRIPTION:Event Reminder - Workshop: LEGO Robotics
END:VALARM
END:VCALENDAR