BEGIN:VCALENDAR
VERSION:2.0
PRODID:SFPL Web Calendar
BEGIN:VEVENT
UID:147463@sfpl.org
DTSTAMP:20260422T230000Z
DTSTART:20260422T230000Z
DTEND:20260423T020000Z
SUMMARY:Book Club: Western Addition Book and Movie Club
DESCRIPTION:<p>Read <a href="https://sfpl.bibliocommons.com/v2/record/S93C1254979"><i>The Joy Luck Club</i></a> by Amy Tan at your own pace, then join us for a screening of the film <a href="https://sfpl.bibliocommons.com/v2/record/S93C1781041"><i>The Joy Luck Club</i></a>. &nbsp;After the movie, stick around for a lively discussion about the powerful stories of family, culture and identity that connect generations in both the book and the film.</p><p>R, 139 min., 1993. Closed captions (CC) in English.</p>
LOCATION:Western Addition - Western Addition Meeting Room
CLASS:PUBLIC
TRANSP:TRANSPARENT
END:VEVENT
BEGIN:VALARM
TRIGGER:-PT1440M
ACTION:DISPLAY
DESCRIPTION:Event Reminder - Book Club: Western Addition Book and Movie Club
END:VALARM
END:VCALENDAR