BEGIN:VCALENDAR
VERSION:2.0
PRODID:SFPL Web Calendar
BEGIN:VEVENT
UID:147935@sfpl.org
DTSTAMP:20260414T000000Z
DTSTART:20260414T000000Z
DTEND:20260414T013000Z
SUMMARY:Workshop: STEAM Career & Major Exploration for Teens
DESCRIPTION:<p>Identify different STEAM career opportunities and paths. Learn about the educational criteria by exploring a variety of interests and majors. Explore different colleges and majors based on the STEAM career of choice. For 9th–12th graders who live or attend school in San Francisco. Space limited. <a href="https://studysmart.us/classes/april-virtual-career-major-exploration-steam-focused-workshop-1-5-hour/">Reservations required: sign up on website</a>.</p><p>Study Smart Tutors is committed to and passionate about providing equitable college and career programming to close opportunity gaps. This virtual program is offered as a one-time event only by agreement with the presenter(s).</p><p>Connect: <a href="https://studysmart.us/">Study Smart Tutors - Website</a></p>
LOCATION:Virtual Library
CLASS:PUBLIC
TRANSP:TRANSPARENT
END:VEVENT
BEGIN:VALARM
TRIGGER:-PT1440M
ACTION:DISPLAY
DESCRIPTION:Event Reminder - Workshop: STEAM Career & Major Exploration for Teens
END:VALARM
END:VCALENDAR