BEGIN:VCALENDAR
VERSION:2.0
PRODID:SFPL Web Calendar
BEGIN:VEVENT
UID:148044@sfpl.org
DTSTAMP:20260413T220000Z
DTSTART:20260413T220000Z
DTEND:20260413T230000Z
SUMMARY:Author: Nathalie Martin, The Inspired Retirement
DESCRIPTION:<p>Explore how to create a retirement filled with purpose, joy, and meaningful activities. Nathalie Martin shares insights from her book <a href="https://sfpl.bibliocommons.com/v2/record/S93C7265812"><i>The Inspired Retirement: Purpose and Passion in Your Next Adventure</i></a>. She discusses practical strategies for planning your day-to-day life, boosting mental, emotional, and physical well-being, and contributing to family, self, and society. Participants learn how to design a fulfilling and impactful post-retirement life at any income and make their next chapter truly inspiring.</p><p>Nathalie Martin is a certified mindfulness teacher, yoga instructor, and chaired professor of law at the University of New Mexico. She combines her professional expertise with a passion for contemplative practices to help people live meaningful, balanced lives. In <a href="https://sfpl.bibliocommons.com/v2/record/S93C7265812"><i>The Inspired Retirement</i></a>, she draws on her experience and interviews with retirees to offer practical, uplifting guidance for anyone looking to make the most of their post-work years.</p><p>Connect: <a href="https://nathaliemartinmindfulness.com/">Nathalie Martin - Website</a>&nbsp;</p>
LOCATION:Virtual Library
CLASS:PUBLIC
TRANSP:TRANSPARENT
END:VEVENT
BEGIN:VALARM
TRIGGER:-PT1440M
ACTION:DISPLAY
DESCRIPTION:Event Reminder - Author: Nathalie Martin, The Inspired Retirement
END:VALARM
END:VCALENDAR