BEGIN:VCALENDAR
VERSION:2.0
PRODID:SFPL Web Calendar
BEGIN:VEVENT
UID:148055@sfpl.org
DTSTAMP:20260405T203000Z
DTSTART:20260405T203000Z
DTEND:20260405T223000Z
SUMMARY:Workshop: Transition to College for Teens (Class C)
DESCRIPTION:<p>Identify key components to consider in preparation for the transition to college. Examine basic financial budgeting, transitioning new residential living situations and the various resources that different colleges have to offer to support students. For 9th–12th graders who live or attend school in San Francisco. Space limited. <a href="https://studysmart.us/classes/april-in-person-transition-to-college-workshop-sunset-branch-4-hour/">Reservations required: sign up on website.</a></p><p>Study Smart Tutors is committed to and passionate about providing equitable college and career programming to close opportunity gaps.</p><p>Connect: <a href="https://studysmart.us/">Study Smart Tutors - Website</a></p>
LOCATION:Sunset - Sunset Program Room
CLASS:PUBLIC
TRANSP:TRANSPARENT
END:VEVENT
BEGIN:VALARM
TRIGGER:-PT1440M
ACTION:DISPLAY
DESCRIPTION:Event Reminder - Workshop: Transition to College for Teens (Class C)
END:VALARM
END:VCALENDAR