BEGIN:VCALENDAR
VERSION:2.0
PRODID:SFPL Web Calendar
BEGIN:VEVENT
UID:148168@sfpl.org
DTSTAMP:20260415T010000Z
DTSTART:20260415T010000Z
DTEND:20260415T020000Z
SUMMARY:Author: Dr. Rebecca Thompson in conversation with Kelly Burke
DESCRIPTION:<p>Author Rebecca N. Thompson, MD, presents <a href="https://url.avanan.click/v2/r01/___https://sfpl.bibliocommons.com/v2/record/S93C6928230___.YXAzOnNmZHQyOmE6bzowNjkxM2IwOWI3NjFmY2NlYzM3NGY1OTUyNDFjZjhhNDo3OjExMGM6ODkyMmM0MDkyNDI2NzgzMmNlOTM1ZmI0MWE5ZTA3ZWYxZWQzZmI2MmQ5YzMyNTcwMjc1Zjg0N2EyMjVhODNlZTpoOlQ6Tg"><i>Held Together: A Shared Memoir of Motherhood, Medicine, and Imperfect Love</i></a>, a decade-long collaborative project that weaves her story of the challenges and joys of parenthood as a young physician into the stories of a remarkable group of her patients, friends, and medical colleagues. In conversation with her former patient and <a href="https://sfpl.bibliocommons.com/v2/record/S93C6928230"><i>Held Together</i></a> collaborator Kelly Burke, Dr. Thompson will explore themes of family, resilience, and identity, highlighting how personal experiences, illness, and shifting family roles shape the way we parent our children and support each other both individually and in community.&nbsp;</p><p>Through diverse and immersive first-person narratives, <a href="https://sfpl.bibliocommons.com/v2/record/S93C6928230"><i>Held Together</i></a> captures the extraordinary moments hidden within ordinary lives, from tear-stained to laugh-out-loud, from devastating to triumphant. These intimate true stories offer connection, empathy, and insight for all kinds of families, born and built and and chosen, while celebrating the complicated realities of our most meaningful relationships as beautiful, messy, imperfect humans.&nbsp;</p><p>Please visit <a href="https://url.avanan.click/v2/r01/___https://www.rebeccanthompson.com/___.YXAzOnNmZHQyOmE6bzowNjkxM2IwOWI3NjFmY2NlYzM3NGY1OTUyNDFjZjhhNDo3OjU3MDk6YTEyNDA3NDJlMzEwMGI3ZDRkODRhNDVjODNkMDdiY2VlNTYwNmU2M2I0NGE4MWFlZTU2NTZiNzQxYWYzNWUxOTpoOlQ6Tg">Dr. Thompson’s website</a> for book club guides, teaching resources, media coverage, and upcoming events in the Bay Area (including in person with collaborator Devorah at <a href="https://www.bookpassage.com/event/rebecca-n-thompson-md-dafna-lohr-md-held-together-shared-memoir-motherhood-medicine-and">Book Passage’s Ferry Building location on Tuesday, April 21</a>!) and beyond.&nbsp;</p><p>Connect: <a href="https://url.avanan.click/v2/r01/___https://www.rebeccanthompson.com/___.YXAzOnNmZHQyOmE6bzowNjkxM2IwOWI3NjFmY2NlYzM3NGY1OTUyNDFjZjhhNDo3OmU4Y2M6YzMxNDVhNjAxZTE0MDRmZDg1OGY2ZWUzN2U3Nzc5OWJkOWEyNGJlZmJhOWUyOGRmNTVkY2ZkNzgwZDg0ZTRlMjpoOlQ6Tg">Rebecca Thompson – Website</a> | <a href="https://url.avanan.click/v2/r01/___https://www.linkedin.com/in/rebecca-thompson-md-msc-99458a65/___.YXAzOnNmZHQyOmE6bzowNjkxM2IwOWI3NjFmY2NlYzM3NGY1OTUyNDFjZjhhNDo3OmE5ZDY6YWYxODBlMWNkMTFkZWVlMWNiZGU2MTlmMzE0YzAzNTI2YWJmYTIwNTQyMGIwODMyZDY5MGYyZTIyOTkxMDU3OTpoOlQ6Tg">LinkedIn</a> | <a href="https://url.avanan.click/v2/r01/___https://www.instagram.com/rebecca.n.thompson/___.YXAzOnNmZHQyOmE6bzowNjkxM2IwOWI3NjFmY2NlYzM3NGY1OTUyNDFjZjhhNDo3OmY0Y2M6YWQ1NmE3OGE3ZjQ3MTE1NDYxZWQzNDIzZDdlYWRhMDNiMmI0MmNhNzI4MDZhNDc0MmFkYzkwOWJhZjY0NDU4YjpoOlQ6Tg">Instagram</a> |<a href="https://url.avanan.click/v2/r01/___https://www.threads.com/_@rebecca.n.thompson___.YXAzOnNmZHQyOmE6bzowNjkxM2IwOWI3NjFmY2NlYzM3NGY1OTUyNDFjZjhhNDo3OmNhMzE6NWExM2NkODNlZTEyYjU0NzIzYzQ4ZTcxOGIyYTc2NjcwN2FjN2RjOWUxZDUzNzEwNTNjMWZmNzhmYWY5MDdhYzpoOlQ6Tg">Threads</a> | <a href="https://url.avanan.click/v2/r01/___https://www.facebook.com/rebecca.thompson.354831___.YXAzOnNmZHQyOmE6bzowMTBiNTQ2YWFjYTBlZTRmMzU4NjRjNDZhNTI1NDkzODo3OjQ0Mzc6MDlhYmViNzM2ZTRkOWY0MGFhOWQwODg2M2Y3OTk0ZjM5MWE4MzJiNmI4OTYxOGFmNTE0MTJjMjNjZTRlZmFkMzpoOlQ6Tg">Facebook</a></p>
LOCATION:Virtual Library
CLASS:PUBLIC
TRANSP:TRANSPARENT
END:VEVENT
BEGIN:VALARM
TRIGGER:-PT1440M
ACTION:DISPLAY
DESCRIPTION:Event Reminder - Author: Dr. Rebecca Thompson in conversation with Kelly Burke
END:VALARM
END:VCALENDAR