BEGIN:VCALENDAR
VERSION:2.0
PRODID:SFPL Web Calendar
BEGIN:VEVENT
UID:148242@sfpl.org
DTSTAMP:20260308T220000Z
DTSTART:20260308T220000Z
DTEND:20260308T230000Z
SUMMARY:Workshop: Georgia O' Keeffe Painting
DESCRIPTION:<p>Learn about pioneering American painter, Georgia O'Keeffe, and create your own O'Keeffe-inspired work of art. For ages 5–15.</p>
LOCATION:Merced - Merced General Floor Area
CLASS:PUBLIC
TRANSP:TRANSPARENT
END:VEVENT
BEGIN:VALARM
TRIGGER:-PT1440M
ACTION:DISPLAY
DESCRIPTION:Event Reminder - Workshop: Georgia O' Keeffe Painting
END:VALARM
END:VCALENDAR