BEGIN:VCALENDAR
VERSION:2.0
PRODID:SFPL Web Calendar
BEGIN:VEVENT
UID:148247@sfpl.org
DTSTAMP:20260419T210000Z
DTSTART:20260419T210000Z
DTEND:20260419T220000Z
SUMMARY:Activity: Puppy Dog Tales
DESCRIPTION:<p>Practice reading in&nbsp;a positive, non-judgmental space with&nbsp;Lumos, a&nbsp;certified&nbsp;therapy dog, and a handler from San Francisco Society for the Prevention of Cruelty to Animals (SF SPCA).&nbsp;The duo will offer kids the opportunity to either read to or simply enjoy Lumos's presence. For ages 5–12.</p>
LOCATION:Visitacion Valley - Visitacion Valley General Floor Area
CLASS:PUBLIC
TRANSP:TRANSPARENT
END:VEVENT
BEGIN:VALARM
TRIGGER:-PT1440M
ACTION:DISPLAY
DESCRIPTION:Event Reminder - Activity: Puppy Dog Tales
END:VALARM
END:VCALENDAR