BEGIN:VCALENDAR
VERSION:2.0
PRODID:SFPL Web Calendar
BEGIN:VEVENT
UID:148331@sfpl.org
DTSTAMP:20260218T230000Z
DTSTART:20260218T230000Z
DTEND:20260219T003000Z
SUMMARY:Film: Dog Man
DESCRIPTION:<p>Experience <a href="https://sfpl.bibliocommons.com/v2/record/S93C6887662"><i>Dog Man</i></a>, the action-packed and laugh-out-loud graphic novel series from Dav Pilkey, in a full-length, family-friendly celebration.</p><p>When a daring police dog and a determined officer become one heroic crime-fighting duo, Dog Man sets out to protect his city from mischievous villains, runaway robots, and, of course, the ever-plotting Petey the Cat. Bursting with heart, humor, and high-energy adventure, this event brings Dog Man’s world to life as our half-dog, half-cop hero races to save the day.&nbsp;</p><p>Show off your best Dog Man–themed costume! Capes, badges, cat-villain disguises and creative mashups encouraged.&nbsp;</p><p>PG, 93 mins., 2025. Closed Captions (CC) in English.</p>
LOCATION:North Beach - North Beach Library Community Room
CLASS:PUBLIC
TRANSP:TRANSPARENT
END:VEVENT
BEGIN:VALARM
TRIGGER:-PT1440M
ACTION:DISPLAY
DESCRIPTION:Event Reminder - Film: Dog Man
END:VALARM
END:VCALENDAR