BEGIN:VCALENDAR
VERSION:2.0
PRODID:SFPL Web Calendar
BEGIN:VEVENT
UID:148536@sfpl.org
DTSTAMP:20260418T210000Z
DTSTART:20260418T210000Z
DTEND:20260418T220000Z
SUMMARY:Performance: Firelight Shadow Theater
DESCRIPTION:<p>Enjoy wonderous storytelling through shadow puppetry centered around Jewish stories and songs. For children and their families.</p><p>Connect: <a href="https://www.firelightshadowtheater.com/">Firelight Shadow Theater – Website</a></p>
LOCATION:Sunset - Sunset Children's Area
CLASS:PUBLIC
TRANSP:TRANSPARENT
END:VEVENT
BEGIN:VALARM
TRIGGER:-PT1440M
ACTION:DISPLAY
DESCRIPTION:Event Reminder - Performance: Firelight Shadow Theater
END:VALARM
END:VCALENDAR