BEGIN:VCALENDAR
VERSION:2.0
PRODID:SFPL Web Calendar
BEGIN:VEVENT
UID:148643@sfpl.org
DTSTAMP:20260421T230000Z
DTSTART:20260421T230000Z
DTEND:20260422T003000Z
SUMMARY:FULL: Activity: Bracelet Making
DESCRIPTION:<p>Make a bracelet for yourself or as a gift.</p><p>Space limited. Reservations required: (415) 355-2808 (starting April 7).</p>
LOCATION:Sunset - Sunset Program Room
CLASS:PUBLIC
TRANSP:TRANSPARENT
END:VEVENT
BEGIN:VALARM
TRIGGER:-PT1440M
ACTION:DISPLAY
DESCRIPTION:Event Reminder - FULL: Activity: Bracelet Making
END:VALARM
END:VCALENDAR