BEGIN:VCALENDAR
VERSION:2.0
PRODID:SFPL Web Calendar
BEGIN:VEVENT
UID:148726@sfpl.org
DTSTAMP:20260423T003000Z
DTSTART:20260423T003000Z
DTEND:20260423T023000Z
SUMMARY:Workshop: Henna with Renda Dabit
DESCRIPTION:<p>Learn about the beauty, history and cultural importance of henna. Participants will get their own henna design by artist Renda Dabit. For ages 6 and older. Space limited. Reservations required. Please call 415-355-2838 to reserve a spot, beginning April 1, 2026.</p><p>Renda Dabit is founder and executive director of Henna Garden Events & Entertainment. Dabit has pioneered the art of henna body decoration in the U.S. by opening the first U.S. henna salon in Berkeley, California. A meticulous professional with a spontaneous and bohemian spirit, Renda channels her creativity to make each event a unique experience.</p><p>Connect: <a href="https://hennagarden.com/">Henna Garden - Website</a></p>
LOCATION:Mission Bay - Mission Bay Program Room
CLASS:PUBLIC
TRANSP:TRANSPARENT
END:VEVENT
BEGIN:VALARM
TRIGGER:-PT1440M
ACTION:DISPLAY
DESCRIPTION:Event Reminder - Workshop: Henna with Renda Dabit
END:VALARM
END:VCALENDAR