BEGIN:VCALENDAR
VERSION:2.0
PRODID:SFPL Web Calendar
BEGIN:VEVENT
UID:149089@sfpl.org
DTSTAMP:20260510T200000Z
DTSTART:20260510T200000Z
DTEND:20260510T210000Z
SUMMARY:Activity: Postcarding De Natura Libris
DESCRIPTION:<p>Celebrate <a href="https://sfpl.org/exhibits/2026/05/15/de-natura-libris-physical-and-abstract-life-books">SFPL's newest exhibit</a> by writing and sending custom postcards featuring images from <a href="https://alvaroalejandrolopez.com/about">Álvaro Alejandro López</a>'s photographic series <a href="https://alvaroalejandrolopez.com/de-natura-libris"><i>De Natura Libris</i></a>.&nbsp;</p><p>Stamps provided while supplies last. One stamp per patron.&nbsp;</p><p>&nbsp;</p><hr><p>&nbsp;</p><p>Celebra <a href="https://sfpl.org/es/node/152882">la nueva exposición de la Biblioteca Pública de San Francisco</a> escribiendo y enviando postales personalizadas con imágenes de la serie fotográfica <a href="https://alvaroalejandrolopez.com/de-natura-libris"><i>De Natura Libris</i></a> de Álvaro<a href="https://alvaroalejandrolopez.com/about"> Alejandro López</a>.</p><p>Se proporcionarán sellos postales hasta agotar existencias. Un sello postal<strong> </strong>por persona.</p>
LOCATION:Main Library - Martin Paley Conference Room - 3rd Fl
CLASS:PUBLIC
TRANSP:TRANSPARENT
END:VEVENT
BEGIN:VALARM
TRIGGER:-PT1440M
ACTION:DISPLAY
DESCRIPTION:Event Reminder - Activity: Postcarding De Natura Libris
END:VALARM
END:VCALENDAR