BEGIN:VCALENDAR
VERSION:2.0
PRODID:SFPL Web Calendar
BEGIN:VEVENT
UID:149101@sfpl.org
DTSTAMP:20260327T160000Z
DTSTART:20260327T160000Z
DTEND:20260518T010000Z
SUMMARY:Wood Engravers’ Network’s Fifth Triennial Exhibition
DESCRIPTION:<p><span lang="EN-US">The </span><a href="https://woodengravers.org/"><span lang="EN-US">Wood Engravers’ Network</span></a><span lang="EN-US"> (WEN) proudly presents its Fifth Triennial Exhibition, a traveling show featuring work by 55 artists working in six countries. Out of 140 entries, 60 prints were selected for this exhibition by guest curator Max Yela, Head of Special Collections at the University of Wisconsin-Milwaukee Libraries.&nbsp;</span></p><p><span lang="EN-US"></span></p><p><span lang="EN-US">This exhibition celebrates the vibrant world of wood engraving, where tradition meets innovation, and craftsmanship intertwines with artistic expression. Eligibility guidelines required that original prints submitted be primarily relief engraving using burins rather than woodcut gouge tools.</span><span>&nbsp;</span></p><p><span lang="EN-US"></span><span lang="EN-US">Wood engraving requires considerable patience, skill and attention to detail. The slow nature of this type of work is appealing in current days of ever-increasing pace.&nbsp;</span><span>&nbsp;</span></p><p><span lang="EN-US"></span><span lang="EN-US">In this exhibition, you will encounter a diverse array of works that showcase the boundless possibilities of this age-old yet ever-evolving medium. The Wood Engravers’ Network brings together artists from around the globe who share a passion to keep this art form alive.</span></p><p><span lang="EN-US">Connect: </span><a href="https://woodengravers.org/"><span lang="EN-US">Wood Engravers' Network - Website</span></a><span lang="EN-US"> | </span><a href="https://www.instagram.com/woodengraversnetwork/#"><span lang="EN-US">Wood Engravers' Network - Instagram</span></a><span lang="EN-US"> | </span><a href="https://www.facebook.com/WoodEngraversNetwork"><span lang="EN-US">Wood Engravers' Network - Facebook</span></a></p>
LOCATION:Main Library - Art, Music & Recreation Center Exhibit Space - 4th Fl
CLASS:PUBLIC
TRANSP:TRANSPARENT
END:VEVENT
BEGIN:VALARM
TRIGGER:-PT1440M
ACTION:DISPLAY
DESCRIPTION:Event Reminder - Wood Engravers’ Network’s Fifth Triennial Exhibition
END:VALARM
END:VCALENDAR