BEGIN:VCALENDAR
VERSION:2.0
PRODID:SFPL Web Calendar
BEGIN:VEVENT
UID:149311@sfpl.org
DTSTAMP:20260424T213000Z
DTSTART:20260424T213000Z
DTEND:20260424T223000Z
SUMMARY:Workshop: Library Rangers, The Life Cycle of Trees
DESCRIPTION:<p>Learn and have fun with Candlestick Point State Recreation Park's staff. Listen to a story, play a game and make a craft.This month, learn about the life cycle of trees.</p>
LOCATION:Portola - Portola Meeting Room
CLASS:PUBLIC
TRANSP:TRANSPARENT
END:VEVENT
BEGIN:VALARM
TRIGGER:-PT1440M
ACTION:DISPLAY
DESCRIPTION:Event Reminder - Workshop: Library Rangers, The Life Cycle of Trees
END:VALARM
END:VCALENDAR