BEGIN:VCALENDAR
VERSION:2.0
PRODID:SFPL Web Calendar
BEGIN:VEVENT
UID:149350@sfpl.org
DTSTAMP:20260815T170000Z
DTSTART:20260815T170000Z
DTEND:20260815T180000Z
SUMMARY:Workshop: Grow a Rainbow
DESCRIPTION:<p>Learn how to grow a rainbow within minutes by using coffee filters, markers and water. For children and their caregivers.&nbsp;</p>
LOCATION:Mission Bay - Mission Bay Program Room
CLASS:PUBLIC
TRANSP:TRANSPARENT
END:VEVENT
BEGIN:VALARM
TRIGGER:-PT1440M
ACTION:DISPLAY
DESCRIPTION:Event Reminder - Workshop: Grow a Rainbow
END:VALARM
END:VCALENDAR