BEGIN:VCALENDAR
VERSION:2.0
PRODID:SFPL Web Calendar
BEGIN:VEVENT
UID:149590@sfpl.org
DTSTAMP:20260305T230000Z
DTSTART:20260305T230000Z
DTEND:20260305T234500Z
SUMMARY:Performance: Storytelling, Music and Movement with Kirk Waller
DESCRIPTION:<p>Renowned storyteller Kirk Waller shares African and African American folktales, legends and history, bringing them alive with music, movement, singing and the spoken word. For children and their caregivers.&nbsp;</p>
LOCATION:Marina - Marina Back Courtyard
CLASS:PUBLIC
TRANSP:TRANSPARENT
END:VEVENT
BEGIN:VALARM
TRIGGER:-PT1440M
ACTION:DISPLAY
DESCRIPTION:Event Reminder - Performance: Storytelling, Music and Movement with Kirk Waller
END:VALARM
END:VCALENDAR