BEGIN:VCALENDAR
VERSION:2.0
PRODID:SFPL Web Calendar
BEGIN:VEVENT
UID:149642@sfpl.org
DTSTAMP:20260527T013000Z
DTSTART:20260527T013000Z
DTEND:20260527T023000Z
SUMMARY:Book Club: Excelsior Reads
DESCRIPTION:<p>The Excelsior Branch Book Club will select and discuss&nbsp;titles in a fun and engaging environment.&nbsp;</p><p>The Book club meets every fourth Tuesday of each month.&nbsp;Drop-ins are welcome.&nbsp;&nbsp;</p><p>&nbsp;</p><p>Title Selection:<strong> &nbsp;</strong><a href="https://sfpl.bibliocommons.com/v2/record/S93C5981369"><strong>Yours for the taking: A Novel | Gabrielle Korn&nbsp;</strong></a></p><p>&nbsp;</p><p>&nbsp;</p>
LOCATION:Excelsior - Excelsior Meeting Room
CLASS:PUBLIC
TRANSP:TRANSPARENT
END:VEVENT
BEGIN:VALARM
TRIGGER:-PT1440M
ACTION:DISPLAY
DESCRIPTION:Event Reminder - Book Club: Excelsior Reads
END:VALARM
END:VCALENDAR