BEGIN:VCALENDAR
VERSION:2.0
PRODID:SFPL Web Calendar
BEGIN:VEVENT
UID:149754@sfpl.org
DTSTAMP:20260222T220000Z
DTSTART:20260222T220000Z
DTEND:20260223T000000Z
SUMMARY:Activity: Chess Club
DESCRIPTION:<p>Practice playing chess in a casual environment. No formal instruction provided.</p>
LOCATION:Ortega - Ortega General Floor Area
CLASS:PUBLIC
TRANSP:TRANSPARENT
END:VEVENT
BEGIN:VALARM
TRIGGER:-PT1440M
ACTION:DISPLAY
DESCRIPTION:Event Reminder - Activity: Chess Club
END:VALARM
END:VCALENDAR