BEGIN:VCALENDAR
VERSION:2.0
PRODID:SFPL Web Calendar
BEGIN:VEVENT
UID:149948@sfpl.org
DTSTAMP:20260516T173000Z
DTSTART:20260516T173000Z
DTEND:20260516T190000Z
SUMMARY:Social: Mission Bay: Hidden Waters
DESCRIPTION:<p>Take a tour with SF City Guides around the Mission Bay neighborhood. From a muddy tidal estuary inhabited by the Yelamu, to a rail and shipping nerve center for the city, to what is now home to emerging biotech companies and San Francisco’s newest residential district, Mission Bay offers a glimpse of the future but doesn’t forget its past.&nbsp;</p><p><a href="https://sfcityguides.org/tour/mission-bay/">Register directly with SF City Guides for this tour.</a></p>
LOCATION:Mission Bay - Mission Bay General Floor Area
CLASS:PUBLIC
TRANSP:TRANSPARENT
END:VEVENT
BEGIN:VALARM
TRIGGER:-PT1440M
ACTION:DISPLAY
DESCRIPTION:Event Reminder - Social: Mission Bay: Hidden Waters
END:VALARM
END:VCALENDAR