BEGIN:VCALENDAR
VERSION:2.0
PRODID:SFPL Web Calendar
BEGIN:VEVENT
UID:150048@sfpl.org
DTSTAMP:20260326T000000Z
DTSTART:20260326T000000Z
DTEND:20260326T010000Z
SUMMARY:Activity: Writing Group
DESCRIPTION:<p>Join other writers in forming a writers group for regular support, feedback or more. Bring your ideas and goals. This first meeting will be facilitated by an Excelsior Branch librarian/writer.</p><p>Reservations recommended but not required.</p>
LOCATION:Excelsior - Excelsior Meeting Room
CLASS:PUBLIC
TRANSP:TRANSPARENT
END:VEVENT
BEGIN:VALARM
TRIGGER:-PT1440M
ACTION:DISPLAY
DESCRIPTION:Event Reminder - Activity: Writing Group
END:VALARM
END:VCALENDAR