BEGIN:VCALENDAR
VERSION:2.0
PRODID:SFPL Web Calendar
BEGIN:VEVENT
UID:150104@sfpl.org
DTSTAMP:20260526T180000Z
DTSTART:20260526T180000Z
DTEND:20260526T190000Z
SUMMARY:Early Learning: Big San Francisco Play Date
DESCRIPTION:<p>Play, learn and explore with a variety of building blocks, soft toys, puppets and more. For ages 5 and younger and their caregivers.</p><p>Big San Francisco Play Date provides families with young children the opportunity to engage in accessible activities that promote growth and exploration in a safe and welcoming environment. Geared for children ages 0–5, we welcome caregivers and older siblings to play along with them. Big Play Date encourages side-by-side play, choice, turn-taking and making new friends for children while providing their grown-ups an opportunity to learn about the importance of play.</p><p><br>&nbsp;</p>
LOCATION:Presidio - Presidio Meeting Room
CLASS:PUBLIC
TRANSP:TRANSPARENT
END:VEVENT
BEGIN:VALARM
TRIGGER:-PT1440M
ACTION:DISPLAY
DESCRIPTION:Event Reminder - Early Learning: Big San Francisco Play Date
END:VALARM
END:VCALENDAR