BEGIN:VCALENDAR
VERSION:2.0
PRODID:SFPL Web Calendar
BEGIN:VEVENT
UID:150138@sfpl.org
DTSTAMP:20260415T230000Z
DTSTART:20260415T230000Z
DTEND:20260416T000000Z
SUMMARY:Presentation: Earth Month Insect Discovery Lab
DESCRIPTION:<p>Celebrate Earth Month with the Insect Discovery Lab. Explore the fantastic lives of beetles, millipedes, hissing cockroaches, walking sticks, whip scorpions and more! For children and their caregivers.&nbsp;</p><p>SaveNature.Org is committed to inspiring participation and awareness in the preservation of fragile ecosystems by providing opportunities for personal direct action to save the diversity of life on Earth.<br>&nbsp;</p><p>Connect: <a href="https://www.savenature.org/">SaveNature.Org - Website.</a></p>
LOCATION:Excelsior - Excelsior Meeting Room
CLASS:PUBLIC
TRANSP:TRANSPARENT
END:VEVENT
BEGIN:VALARM
TRIGGER:-PT1440M
ACTION:DISPLAY
DESCRIPTION:Event Reminder - Presentation: Earth Month Insect Discovery Lab
END:VALARM
END:VCALENDAR