BEGIN:VCALENDAR
VERSION:2.0
PRODID:SFPL Web Calendar
BEGIN:VEVENT
UID:150228@sfpl.org
DTSTAMP:20260521T230000Z
DTSTART:20260521T230000Z
DTEND:20260522T000000Z
SUMMARY:Performance: Urban School Bebop Combo
DESCRIPTION:<p>Listen to the Urban School Bebop Combo, a group of dedicated jazz band students who serve as the school's musical ambassadors. The combo will play selections by bebop legends and classics from the American jazz tradition.<strong> </strong>These inspired young musicians perform at a wide variety of community events. &nbsp;</p><p>Connect: <a href="https://www.urbanschool.org/arts/music">Urban School Music Program – Website</a></p>
LOCATION:Park - Park Meeting Room
CLASS:PUBLIC
TRANSP:TRANSPARENT
END:VEVENT
BEGIN:VALARM
TRIGGER:-PT1440M
ACTION:DISPLAY
DESCRIPTION:Event Reminder - Performance: Urban School Bebop Combo
END:VALARM
END:VCALENDAR