BEGIN:VCALENDAR
VERSION:2.0
PRODID:SFPL Web Calendar
BEGIN:VEVENT
UID:150243@sfpl.org
DTSTAMP:20260512T230000Z
DTSTART:20260512T230000Z
DTEND:20260513T003000Z
SUMMARY:Activity: Origami
DESCRIPTION:<p>Join origami artist Angela Wang to learn how to fold origami, the art of Japanese paper folding. For children ages 5 and older.</p>
LOCATION:Excelsior - Excelsior Meeting Room
CLASS:PUBLIC
TRANSP:TRANSPARENT
END:VEVENT
BEGIN:VALARM
TRIGGER:-PT1440M
ACTION:DISPLAY
DESCRIPTION:Event Reminder - Activity: Origami
END:VALARM
END:VCALENDAR