BEGIN:VCALENDAR
VERSION:2.0
PRODID:SFPL Web Calendar
BEGIN:VEVENT
UID:150356@sfpl.org
DTSTAMP:20260425T210000Z
DTSTART:20260425T210000Z
DTEND:20260425T223000Z
SUMMARY:Activity: Turkish Story Time
DESCRIPTION:<p>Enjoy a lively read-aloud of children’s picture books in Turkish followed by interactive activities including singing, movement games and crafts that reinforce key words and themes from the stories. Presented in Turkish and English languages by Ayça Yalçın. For children ages 12 and younger and their caregivers.</p>
LOCATION:Potrero - Potrero Meeting Room
CLASS:PUBLIC
TRANSP:TRANSPARENT
END:VEVENT
BEGIN:VALARM
TRIGGER:-PT1440M
ACTION:DISPLAY
DESCRIPTION:Event Reminder - Activity: Turkish Story Time
END:VALARM
END:VCALENDAR