BEGIN:VCALENDAR
VERSION:2.0
PRODID:SFPL Web Calendar
BEGIN:VEVENT
UID:150620@sfpl.org
DTSTAMP:20260422T220000Z
DTSTART:20260422T220000Z
DTEND:20260422T233000Z
SUMMARY:Workshop: Fabric Collage
DESCRIPTION:<p>Create unique images using fabric scraps and glue on card stock. For children ages 5 and older.</p>
LOCATION:Marina - Marina Children's Area
CLASS:PUBLIC
TRANSP:TRANSPARENT
END:VEVENT
BEGIN:VALARM
TRIGGER:-PT1440M
ACTION:DISPLAY
DESCRIPTION:Event Reminder - Workshop: Fabric Collage
END:VALARM
END:VCALENDAR