BEGIN:VCALENDAR
VERSION:2.0
PRODID:SFPL Web Calendar
BEGIN:VEVENT
UID:150633@sfpl.org
DTSTAMP:20260513T220000Z
DTSTART:20260513T220000Z
DTEND:20260513T233000Z
SUMMARY:Workshop: Fuzzy Yarn Stuffies
DESCRIPTION:<p>Make your own stuffie using jumbo fuzzy yarn and a cardboard loom. For children ages 8 and older.</p>
LOCATION:Marina - Marina General Floor Area
CLASS:PUBLIC
TRANSP:TRANSPARENT
END:VEVENT
BEGIN:VALARM
TRIGGER:-PT1440M
ACTION:DISPLAY
DESCRIPTION:Event Reminder - Workshop: Fuzzy Yarn Stuffies
END:VALARM
END:VCALENDAR