BEGIN:VCALENDAR
VERSION:2.0
PRODID:SFPL Web Calendar
BEGIN:VEVENT
UID:150665@sfpl.org
DTSTAMP:20260415T220000Z
DTSTART:20260415T220000Z
DTEND:20260415T230000Z
SUMMARY:Activity: Button Making for Earth Day
DESCRIPTION:<p>Make your own buttons to pin to your clothes or bag. Show it off or give them to friends. We'll have some special designs inspired by Earth Day. For ages 10–18.</p>
LOCATION:North Beach - North Beach General Floor Area
CLASS:PUBLIC
TRANSP:TRANSPARENT
END:VEVENT
BEGIN:VALARM
TRIGGER:-PT1440M
ACTION:DISPLAY
DESCRIPTION:Event Reminder - Activity: Button Making for Earth Day
END:VALARM
END:VCALENDAR